BEGIN:VCALENDAR
PRODID:-//kirchenweb.ch gmbh//veranstaltungsausgabe v2.0//DE
VERSION:2.0
METHOD:PUBLISH
BEGIN:VEVENT
DTSTART:20261210T080000Z
DTEND:20261210T100000Z
LOCATION:Evang. Kirchgemeindehaus Alterswilen\, Kirchstrasse 4\, 8573
  Alterswilen
TRANSP:OPAQUE
SEQUENCE:0
UID:35537-veranstaltung@evang-kemmental.ch
DTSTAMP:20260309T131725Z
DESCRIPTION:Kontakt: Yasmin Brechbühl\n\nWeitere Infos:
  https://www.evang-kemmental.ch/veranstaltung/35537
SUMMARY:Familiencafe
PRIORITY:5
X-MICROSOFT-CDO-IMPORTANCE:1
CLASS:PUBLIC
END:VEVENT
END:VCALENDAR
